BEGIN:VCALENDAR
VERSION:2.0
PRODID:-//Contratero//ES
CALSCALE:GREGORIAN
METHOD:PUBLISH
BEGIN:VEVENT
UID:SER-18/26 MB@contratero.es
DTSTAMP:20260419T215655Z
DTSTART:20260216T235959
DTEND:20260217T005959
SUMMARY:Cierre: Servicio de mantenimiento del software para la Ges
DESCRIPTION:Servicio de mantenimiento del software para la Gestión Académica\, Económica\, RRHH e Integración de la UPM\, así como el servicio de gestión delegada de los recursos para este fin.\\n\\nOrganismo: Rectorado de la Universidad Politécnica de Madrid\\n\\nVer en Contratero: https://contratero.es/contracts/SER-18/26 MB
URL:https://contratero.es/contracts/SER-18/26 MB
STATUS:CONFIRMED
BEGIN:VALARM
TRIGGER:-P1D
ACTION:DISPLAY
DESCRIPTION:Recordatorio: Servicio de mantenimiento del 
END:VALARM
END:VEVENT
END:VCALENDAR